BEGIN:VCALENDAR
VERSION:2.0
PRODID:-//Tukios.com/
BEGIN:VEVENT
UID:644ade80-049d-41f5-982d-5432b6fb458f@www.andersonfuneral.net
DTSTAMP:20260423T183006Z
DTSTART:20260509T150000Z
DTEND:20260509T160000Z
SUMMARY:Visitation
DESCRIPTION:
URL:https://www.andersonfuneral.net/obituaries/beverly-nelson
LOCATION: 659 Voyager Drive NW  Alexandria MN 56308
GEO:45.9025785;-95.3926038
END:VEVENT
END:VCALENDAR