BEGIN:VCALENDAR
VERSION:2.0
PRODID:-//Tukios.com/
BEGIN:VEVENT
UID:bf1d7cb0-c4f5-43bb-9a0a-0b96278d113a@www.andersonfuneral.net
DTSTAMP:20260423T182753Z
DTSTART:20260509T160000Z
DTEND:20260509T170000Z
SUMMARY:Memorial Service
DESCRIPTION:
URL:https://www.andersonfuneral.net/obituaries/beverly-nelson
LOCATION: 659 Voyager Drive NW  Alexandria MN 56308
GEO:45.9025785;-95.3926038
END:VEVENT
END:VCALENDAR